BEGIN:VCALENDAR
VERSION:2.0
PRODID:-//ChamberMaster//Event Calendar 2.0//EN
METHOD:PUBLISH
X-PUBLISHED-TTL:P3D
REFRESH-INTERVAL:P3D
CALSCALE:GREGORIAN
BEGIN:VEVENT
DTSTART;VALUE=DATE:20301005
DTEND;VALUE=DATE:20301006
TRANSP:TRANSPARENT
X-MICROSOFT-CDO-ALLDAYEVENT:TRUE
SUMMARY:Car Show in the Country
DESCRIPTION:
X-ALT-DESC;FMTTYPE=text/html:
LOCATION:
UID:e.92.75148
SEQUENCE:3
DTSTAMP:20260424T093513Z
URL:http://brenham-washington-gzcms.preview.gochambermaster.com/events/details/car-show-in-the-country-10-05-2030-75148
END:VEVENT

END:VCALENDAR
